BEGIN:VCALENDAR
VERSION:2.0
PRODID:spatie/icalendar-generator
NAME:Surgent's Achieving High Levels of Compliance and Customer Service in 
 Your Organization
X-WR-CALNAME:Surgent's Achieving High Levels of Compliance and Customer Ser
 vice in Your Organization
BEGIN:VTIMEZONE
TZID:America/Chicago
BEGIN:STANDARD
DTSTART:20261101T010000
TZOFFSETFROM:-0500
TZOFFSETTO:-0600
END:STANDARD
BEGIN:DAYLIGHT
DTSTART:20270314T010000
TZOFFSETFROM:-0600
TZOFFSETTO:-0500
END:DAYLIGHT
END:VTIMEZONE
BEGIN:VTIMEZONE
TZID:UTC
BEGIN:STANDARD
DTSTART:20250726T035957
TZOFFSETFROM:+0000
TZOFFSETTO:+0000
END:STANDARD
END:VTIMEZONE
BEGIN:VEVENT
UID:69e847bd98a54
DTSTAMP:20260422T035957Z
SUMMARY:Surgent's Achieving High Levels of Compliance and Customer Service 
 in Your Organization
URL:https://ms-cpa.org/catalog/events/4339212-surgents-achieving-high-level
 s-of-compliance-and-customer-service-in-your-organization-2027-18-03
DTSTART;TZID=America/Chicago:20270318T080000
DTEND;TZID=America/Chicago:20270318T120000
END:VEVENT
END:VCALENDAR