BEGIN:VCALENDAR
VERSION:2.0
PRODID:spatie/icalendar-generator
NAME:Surgent's Advanced Trust Issues: A Roadmap for Success in An Increasin
 gly Complex Area
X-WR-CALNAME:Surgent's Advanced Trust Issues: A Roadmap for Success in An I
 ncreasingly Complex Area
BEGIN:VTIMEZONE
TZID:America/Chicago
BEGIN:STANDARD
DTSTART:20261101T010000
TZOFFSETFROM:-0500
TZOFFSETTO:-0600
END:STANDARD
BEGIN:DAYLIGHT
DTSTART:20270314T010000
TZOFFSETFROM:-0600
TZOFFSETTO:-0500
END:DAYLIGHT
END:VTIMEZONE
BEGIN:VTIMEZONE
TZID:UTC
BEGIN:STANDARD
DTSTART:20250726T040100
TZOFFSETFROM:+0000
TZOFFSETTO:+0000
END:STANDARD
END:VTIMEZONE
BEGIN:VEVENT
UID:69e847fcb2eac
DTSTAMP:20260422T040100Z
SUMMARY:Surgent's Advanced Trust Issues: A Roadmap for Success in An Increa
 singly Complex Area
URL:https://ms-cpa.org/catalog/events/4339194-surgents-advanced-trust-issue
 s-a-roadmap-for-success-in-an-increasingly-complex-area-2027-17-03
DTSTART;TZID=America/Chicago:20270317T080000
DTEND;TZID=America/Chicago:20270317T120000
END:VEVENT
END:VCALENDAR