BEGIN:VCALENDAR
VERSION:2.0
PRODID:spatie/icalendar-generator
NAME:Surgent's Key Roth IRA and Roth 401(k) Rules for Funding and Tax-free 
 Distributions
X-WR-CALNAME:Surgent's Key Roth IRA and Roth 401(k) Rules for Funding and T
 ax-free Distributions
BEGIN:VTIMEZONE
TZID:America/Chicago
BEGIN:STANDARD
DTSTART:20261101T010000
TZOFFSETFROM:-0500
TZOFFSETTO:-0600
END:STANDARD
BEGIN:DAYLIGHT
DTSTART:20270314T010000
TZOFFSETFROM:-0600
TZOFFSETTO:-0500
END:DAYLIGHT
END:VTIMEZONE
BEGIN:VTIMEZONE
TZID:UTC
BEGIN:STANDARD
DTSTART:20250726T040256
TZOFFSETFROM:+0000
TZOFFSETTO:+0000
END:STANDARD
END:VTIMEZONE
BEGIN:VEVENT
UID:69e84870e1229
DTSTAMP:20260422T040256Z
SUMMARY:Surgent's Key Roth IRA and Roth 401(k) Rules for Funding and Tax-fr
 ee Distributions
URL:https://ms-cpa.org/catalog/events/4339172-surgents-key-roth-ira-and-rot
 h-401k-rules-for-funding-and-tax-free-distributions-2027-17-03
DTSTART;TZID=America/Chicago:20270317T130000
DTEND;TZID=America/Chicago:20270317T150000
END:VEVENT
END:VCALENDAR