BEGIN:VCALENDAR
VERSION:2.0
PRODID:spatie/icalendar-generator
NAME:Surgent's The Accounting Leaders’ Survival Guide - Strategies for Ma
 naging Organizational Change
X-WR-CALNAME:Surgent's The Accounting Leaders’ Survival Guide - Strategie
 s for Managing Organizational Change
BEGIN:VTIMEZONE
TZID:America/Chicago
BEGIN:STANDARD
DTSTART:20261101T010000
TZOFFSETFROM:-0500
TZOFFSETTO:-0600
END:STANDARD
BEGIN:DAYLIGHT
DTSTART:20270314T010000
TZOFFSETFROM:-0600
TZOFFSETTO:-0500
END:DAYLIGHT
END:VTIMEZONE
BEGIN:VTIMEZONE
TZID:UTC
BEGIN:STANDARD
DTSTART:20250726T035804
TZOFFSETFROM:+0000
TZOFFSETTO:+0000
END:STANDARD
END:VTIMEZONE
BEGIN:VEVENT
UID:69e8474cee5a6
DTSTAMP:20260422T035804Z
SUMMARY:Surgent's The Accounting Leaders’ Survival Guide - Strategies for
  Managing Organizational Change
URL:https://ms-cpa.org/catalog/events/4339033-surgents-the-accounting-leade
 rs-survival-guide-strategies-for-managing-organizational-change-2027-16-03
DTSTART;TZID=America/Chicago:20270316T120000
DTEND;TZID=America/Chicago:20270316T140000
END:VEVENT
END:VCALENDAR