BEGIN:VCALENDAR
VERSION:2.0
PRODID:spatie/icalendar-generator
NAME:Surgent's What Practitioners Need to Know About Estate Planning and Ad
 ministering a Client’s Estate
X-WR-CALNAME:Surgent's What Practitioners Need to Know About Estate Plannin
 g and Administering a Client’s Estate
BEGIN:VTIMEZONE
TZID:America/Chicago
BEGIN:STANDARD
DTSTART:20261101T010000
TZOFFSETFROM:-0500
TZOFFSETTO:-0600
END:STANDARD
BEGIN:DAYLIGHT
DTSTART:20270314T010000
TZOFFSETFROM:-0600
TZOFFSETTO:-0500
END:DAYLIGHT
END:VTIMEZONE
BEGIN:VTIMEZONE
TZID:UTC
BEGIN:STANDARD
DTSTART:20250726T035851
TZOFFSETFROM:+0000
TZOFFSETTO:+0000
END:STANDARD
END:VTIMEZONE
BEGIN:VEVENT
UID:69e8477b8e24b
DTSTAMP:20260422T035851Z
SUMMARY:Surgent's What Practitioners Need to Know About Estate Planning and
  Administering a Client’s Estate
URL:https://ms-cpa.org/catalog/events/4338986-surgents-what-practitioners-n
 eed-to-know-about-estate-planning-and-administering-a-clients-estate-2027-
 16-03
DTSTART;TZID=America/Chicago:20270316T100000
DTEND;TZID=America/Chicago:20270316T130000
END:VEVENT
END:VCALENDAR