BEGIN:VCALENDAR
VERSION:2.0
PRODID:spatie/icalendar-generator
NAME:Surgent's Understanding Non-Compete Agreements
X-WR-CALNAME:Surgent's Understanding Non-Compete Agreements
BEGIN:VTIMEZONE
TZID:America/Chicago
BEGIN:STANDARD
DTSTART:20261101T010000
TZOFFSETFROM:-0500
TZOFFSETTO:-0600
END:STANDARD
BEGIN:DAYLIGHT
DTSTART:20270314T010000
TZOFFSETFROM:-0600
TZOFFSETTO:-0500
END:DAYLIGHT
END:VTIMEZONE
BEGIN:VTIMEZONE
TZID:UTC
BEGIN:STANDARD
DTSTART:20250726T034626
TZOFFSETFROM:+0000
TZOFFSETTO:+0000
END:STANDARD
END:VTIMEZONE
BEGIN:VEVENT
UID:69e8449244375
DTSTAMP:20260422T034626Z
SUMMARY:Surgent's Understanding Non-Compete Agreements
URL:https://ms-cpa.org/catalog/events/4338969-surgents-understanding-non-co
 mpete-agreements-2027-15-03
DTSTART;TZID=America/Chicago:20270315T120000
DTEND;TZID=America/Chicago:20270315T140000
END:VEVENT
END:VCALENDAR