BEGIN:VCALENDAR
VERSION:2.0
PRODID:spatie/icalendar-generator
NAME:Surgent's Navigating AI Compliance: The EU AI Act for U.S. Finance and
  Accounting Leaders
X-WR-CALNAME:Surgent's Navigating AI Compliance: The EU AI Act for U.S. Fin
 ance and Accounting Leaders
BEGIN:VTIMEZONE
TZID:America/Chicago
BEGIN:STANDARD
DTSTART:20261101T010000
TZOFFSETFROM:-0500
TZOFFSETTO:-0600
END:STANDARD
BEGIN:DAYLIGHT
DTSTART:20270314T010000
TZOFFSETFROM:-0600
TZOFFSETTO:-0500
END:DAYLIGHT
END:VTIMEZONE
BEGIN:VTIMEZONE
TZID:UTC
BEGIN:STANDARD
DTSTART:20250726T040039
TZOFFSETFROM:+0000
TZOFFSETTO:+0000
END:STANDARD
END:VTIMEZONE
BEGIN:VEVENT
UID:69e847e7c80d0
DTSTAMP:20260422T040039Z
SUMMARY:Surgent's Navigating AI Compliance: The EU AI Act for U.S. Finance 
 and Accounting Leaders
URL:https://ms-cpa.org/catalog/events/4338841-surgents-navigating-ai-compli
 ance-the-eu-ai-act-for-us-finance-and-accounting-leaders-2027-12-03
DTSTART;TZID=America/Chicago:20270312T090000
DTEND;TZID=America/Chicago:20270312T110000
END:VEVENT
END:VCALENDAR