BEGIN:VCALENDAR
VERSION:2.0
PRODID:spatie/icalendar-generator
NAME:Surgent's Advanced Audits of 401(k) Plans: Best Practices and Current 
 Developments
X-WR-CALNAME:Surgent's Advanced Audits of 401(k) Plans: Best Practices and 
 Current Developments
BEGIN:VTIMEZONE
TZID:America/Chicago
BEGIN:STANDARD
DTSTART:20261101T010000
TZOFFSETFROM:-0500
TZOFFSETTO:-0600
END:STANDARD
BEGIN:DAYLIGHT
DTSTART:20270314T010000
TZOFFSETFROM:-0600
TZOFFSETTO:-0500
END:DAYLIGHT
END:VTIMEZONE
BEGIN:VTIMEZONE
TZID:UTC
BEGIN:STANDARD
DTSTART:20250726T035724
TZOFFSETFROM:+0000
TZOFFSETTO:+0000
END:STANDARD
END:VTIMEZONE
BEGIN:VEVENT
UID:69e84724f3c25
DTSTAMP:20260422T035724Z
SUMMARY:Surgent's Advanced Audits of 401(k) Plans: Best Practices and Curre
 nt Developments
URL:https://ms-cpa.org/catalog/events/4338818-surgents-advanced-audits-of-4
 01k-plans-best-practices-and-current-developments-2027-12-03
DTSTART;TZID=America/Chicago:20270312T080000
DTEND;TZID=America/Chicago:20270312T160000
END:VEVENT
END:VCALENDAR