BEGIN:VCALENDAR
VERSION:2.0
PRODID:spatie/icalendar-generator
NAME:Surgent's Use the Data Model to Build More Powerful PivotTables
X-WR-CALNAME:Surgent's Use the Data Model to Build More Powerful PivotTable
 s
BEGIN:VTIMEZONE
TZID:America/Chicago
BEGIN:STANDARD
DTSTART:20261101T010000
TZOFFSETFROM:-0500
TZOFFSETTO:-0600
END:STANDARD
BEGIN:DAYLIGHT
DTSTART:20270314T010000
TZOFFSETFROM:-0600
TZOFFSETTO:-0500
END:DAYLIGHT
END:VTIMEZONE
BEGIN:VTIMEZONE
TZID:UTC
BEGIN:STANDARD
DTSTART:20250726T035602
TZOFFSETFROM:+0000
TZOFFSETTO:+0000
END:STANDARD
END:VTIMEZONE
BEGIN:VEVENT
UID:69e846d2480f2
DTSTAMP:20260422T035602Z
SUMMARY:Surgent's Use the Data Model to Build More Powerful PivotTables
URL:https://ms-cpa.org/catalog/events/4338743-surgents-use-the-data-model-t
 o-build-more-powerful-pivottables-2027-11-03
DTSTART;TZID=America/Chicago:20270311T090000
DTEND;TZID=America/Chicago:20270311T110000
END:VEVENT
END:VCALENDAR