BEGIN:VCALENDAR
VERSION:2.0
PRODID:spatie/icalendar-generator
NAME:Surgent's Hiring New Workers and Payroll Taxes
X-WR-CALNAME:Surgent's Hiring New Workers and Payroll Taxes
BEGIN:VTIMEZONE
TZID:America/Chicago
BEGIN:STANDARD
DTSTART:20261101T010000
TZOFFSETFROM:-0500
TZOFFSETTO:-0600
END:STANDARD
BEGIN:DAYLIGHT
DTSTART:20270314T010000
TZOFFSETFROM:-0600
TZOFFSETTO:-0500
END:DAYLIGHT
END:VTIMEZONE
BEGIN:VTIMEZONE
TZID:UTC
BEGIN:STANDARD
DTSTART:20250726T035459
TZOFFSETFROM:+0000
TZOFFSETTO:+0000
END:STANDARD
END:VTIMEZONE
BEGIN:VEVENT
UID:69e846939db7f
DTSTAMP:20260422T035459Z
SUMMARY:Surgent's Hiring New Workers and Payroll Taxes
URL:https://ms-cpa.org/catalog/events/4338691-surgents-hiring-new-workers-a
 nd-payroll-taxes-2027-10-03
DTSTART;TZID=America/Chicago:20270310T090000
DTEND;TZID=America/Chicago:20270310T110000
END:VEVENT
END:VCALENDAR