BEGIN:VCALENDAR
VERSION:2.0
PRODID:spatie/icalendar-generator
NAME:Surgent's Tax Update for Client Advisory Services
X-WR-CALNAME:Surgent's Tax Update for Client Advisory Services
BEGIN:VTIMEZONE
TZID:America/Chicago
BEGIN:STANDARD
DTSTART:20261101T010000
TZOFFSETFROM:-0500
TZOFFSETTO:-0600
END:STANDARD
BEGIN:DAYLIGHT
DTSTART:20270314T010000
TZOFFSETFROM:-0600
TZOFFSETTO:-0500
END:DAYLIGHT
END:VTIMEZONE
BEGIN:VTIMEZONE
TZID:UTC
BEGIN:STANDARD
DTSTART:20250726T035718
TZOFFSETFROM:+0000
TZOFFSETTO:+0000
END:STANDARD
END:VTIMEZONE
BEGIN:VEVENT
UID:69e8471e30601
DTSTAMP:20260422T035718Z
SUMMARY:Surgent's Tax Update for Client Advisory Services
URL:https://ms-cpa.org/catalog/events/4338563-surgents-tax-update-for-clien
 t-advisory-services-2027-09-03
DTSTART;TZID=America/Chicago:20270309T120000
DTEND;TZID=America/Chicago:20270309T160000
END:VEVENT
END:VCALENDAR