BEGIN:VCALENDAR
VERSION:2.0
PRODID:spatie/icalendar-generator
NAME:Surgent's Understanding and Managing Burnout Among Accounting and Fina
 nce Professionals
X-WR-CALNAME:Surgent's Understanding and Managing Burnout Among Accounting 
 and Finance Professionals
BEGIN:VTIMEZONE
TZID:America/Chicago
BEGIN:STANDARD
DTSTART:20261101T010000
TZOFFSETFROM:-0500
TZOFFSETTO:-0600
END:STANDARD
BEGIN:DAYLIGHT
DTSTART:20270314T010000
TZOFFSETFROM:-0600
TZOFFSETTO:-0500
END:DAYLIGHT
END:VTIMEZONE
BEGIN:VTIMEZONE
TZID:UTC
BEGIN:STANDARD
DTSTART:20250726T035918
TZOFFSETFROM:+0000
TZOFFSETTO:+0000
END:STANDARD
END:VTIMEZONE
BEGIN:VEVENT
UID:69e847966440d
DTSTAMP:20260422T035918Z
SUMMARY:Surgent's Understanding and Managing Burnout Among Accounting and F
 inance Professionals
URL:https://ms-cpa.org/catalog/events/4338527-surgents-understanding-and-ma
 naging-burnout-among-accounting-and-finance-professionals-2027-09-03
DTSTART;TZID=America/Chicago:20270309T130000
DTEND;TZID=America/Chicago:20270309T150000
END:VEVENT
END:VCALENDAR