BEGIN:VCALENDAR
VERSION:2.0
PRODID:spatie/icalendar-generator
NAME:Surgent's Communicating Financial Results to Stakeholders: A Guide for
  Client Advisory Services
X-WR-CALNAME:Surgent's Communicating Financial Results to Stakeholders: A G
 uide for Client Advisory Services
BEGIN:VTIMEZONE
TZID:America/Chicago
BEGIN:STANDARD
DTSTART:20261101T010000
TZOFFSETFROM:-0500
TZOFFSETTO:-0600
END:STANDARD
BEGIN:DAYLIGHT
DTSTART:20270314T010000
TZOFFSETFROM:-0600
TZOFFSETTO:-0500
END:DAYLIGHT
END:VTIMEZONE
BEGIN:VTIMEZONE
TZID:UTC
BEGIN:STANDARD
DTSTART:20250726T035718
TZOFFSETFROM:+0000
TZOFFSETTO:+0000
END:STANDARD
END:VTIMEZONE
BEGIN:VEVENT
UID:69e8471e75f79
DTSTAMP:20260422T035718Z
SUMMARY:Surgent's Communicating Financial Results to Stakeholders: A Guide 
 for Client Advisory Services
URL:https://ms-cpa.org/catalog/events/4338442-surgents-communicating-financ
 ial-results-to-stakeholders-a-guide-for-client-advisory-services-2027-08-0
 3
DTSTART;TZID=America/Chicago:20270308T120000
DTEND;TZID=America/Chicago:20270308T140000
END:VEVENT
END:VCALENDAR