BEGIN:VCALENDAR
VERSION:2.0
PRODID:spatie/icalendar-generator
NAME:Surgent's More Money at the End of the Month: Strategic Ways to Improv
 e Cash Flow
X-WR-CALNAME:Surgent's More Money at the End of the Month: Strategic Ways t
 o Improve Cash Flow
BEGIN:VTIMEZONE
TZID:America/Chicago
BEGIN:STANDARD
DTSTART:20261101T010000
TZOFFSETFROM:-0500
TZOFFSETTO:-0600
END:STANDARD
BEGIN:DAYLIGHT
DTSTART:20270314T010000
TZOFFSETFROM:-0600
TZOFFSETTO:-0500
END:DAYLIGHT
END:VTIMEZONE
BEGIN:VTIMEZONE
TZID:UTC
BEGIN:STANDARD
DTSTART:20250726T035957
TZOFFSETFROM:+0000
TZOFFSETTO:+0000
END:STANDARD
END:VTIMEZONE
BEGIN:VEVENT
UID:69e847bdd1a2a
DTSTAMP:20260422T035957Z
SUMMARY:Surgent's More Money at the End of the Month: Strategic Ways to Imp
 rove Cash Flow
URL:https://ms-cpa.org/catalog/events/4338370-surgents-more-money-at-the-en
 d-of-the-month-strategic-ways-to-improve-cash-flow-2027-05-03
DTSTART;TZID=America/Chicago:20270305T120000
DTEND;TZID=America/Chicago:20270305T140000
END:VEVENT
END:VCALENDAR