BEGIN:VCALENDAR
VERSION:2.0
PRODID:spatie/icalendar-generator
NAME:Surgent's Update on Recent AICPA Standard Setting: Staying Current in 
 a Changing Environment
X-WR-CALNAME:Surgent's Update on Recent AICPA Standard Setting: Staying Cur
 rent in a Changing Environment
BEGIN:VTIMEZONE
TZID:America/Chicago
BEGIN:STANDARD
DTSTART:20261101T010000
TZOFFSETFROM:-0500
TZOFFSETTO:-0600
END:STANDARD
BEGIN:DAYLIGHT
DTSTART:20270314T010000
TZOFFSETFROM:-0600
TZOFFSETTO:-0500
END:DAYLIGHT
END:VTIMEZONE
BEGIN:VTIMEZONE
TZID:UTC
BEGIN:STANDARD
DTSTART:20250726T040302
TZOFFSETFROM:+0000
TZOFFSETTO:+0000
END:STANDARD
END:VTIMEZONE
BEGIN:VEVENT
UID:69e84876bf052
DTSTAMP:20260422T040302Z
SUMMARY:Surgent's Update on Recent AICPA Standard Setting: Staying Current 
 in a Changing Environment
URL:https://ms-cpa.org/catalog/events/4338360-surgents-update-on-recent-aic
 pa-standard-setting-staying-current-in-a-changing-environment-2027-05-03
DTSTART;TZID=America/Chicago:20270305T123000
DTEND;TZID=America/Chicago:20270305T163000
END:VEVENT
END:VCALENDAR