BEGIN:VCALENDAR
VERSION:2.0
PRODID:spatie/icalendar-generator
NAME:Surgent's Integrated Planning\, Forecasting\, and Budgeting for Organi
 zational Success
X-WR-CALNAME:Surgent's Integrated Planning\, Forecasting\, and Budgeting fo
 r Organizational Success
BEGIN:VTIMEZONE
TZID:America/Chicago
BEGIN:STANDARD
DTSTART:20261101T010000
TZOFFSETFROM:-0500
TZOFFSETTO:-0600
END:STANDARD
BEGIN:DAYLIGHT
DTSTART:20270314T010000
TZOFFSETFROM:-0600
TZOFFSETTO:-0500
END:DAYLIGHT
END:VTIMEZONE
BEGIN:VTIMEZONE
TZID:UTC
BEGIN:STANDARD
DTSTART:20250726T035439
TZOFFSETFROM:+0000
TZOFFSETTO:+0000
END:STANDARD
END:VTIMEZONE
BEGIN:VEVENT
UID:69e8467fa61cd
DTSTAMP:20260422T035439Z
SUMMARY:Surgent's Integrated Planning\, Forecasting\, and Budgeting for Org
 anizational Success
URL:https://ms-cpa.org/catalog/events/4338298-surgents-integrated-planning-
 forecasting-and-budgeting-for-organizational-success-2027-05-03
DTSTART;TZID=America/Chicago:20270305T123000
DTEND;TZID=America/Chicago:20270305T163000
END:VEVENT
END:VCALENDAR