BEGIN:VCALENDAR
VERSION:2.0
PRODID:spatie/icalendar-generator
NAME:Surgent's Making Sense of Essential OBBBA Provisions
X-WR-CALNAME:Surgent's Making Sense of Essential OBBBA Provisions
BEGIN:VTIMEZONE
TZID:America/Chicago
BEGIN:STANDARD
DTSTART:20261101T010000
TZOFFSETFROM:-0500
TZOFFSETTO:-0600
END:STANDARD
BEGIN:DAYLIGHT
DTSTART:20270314T010000
TZOFFSETFROM:-0600
TZOFFSETTO:-0500
END:DAYLIGHT
END:VTIMEZONE
BEGIN:VTIMEZONE
TZID:UTC
BEGIN:STANDARD
DTSTART:20250726T035637
TZOFFSETFROM:+0000
TZOFFSETTO:+0000
END:STANDARD
END:VTIMEZONE
BEGIN:VEVENT
UID:69e846f5f2765
DTSTAMP:20260422T035637Z
SUMMARY:Surgent's Making Sense of Essential OBBBA Provisions
URL:https://ms-cpa.org/catalog/events/4338286-surgents-making-sense-of-esse
 ntial-obbba-provisions-2027-05-03
DTSTART;TZID=America/Chicago:20270305T090000
DTEND;TZID=America/Chicago:20270305T110000
END:VEVENT
END:VCALENDAR