BEGIN:VCALENDAR
VERSION:2.0
PRODID:spatie/icalendar-generator
NAME:Surgent's Working Remotely: Best Practices\, Challenges\, and Opportun
 ities
X-WR-CALNAME:Surgent's Working Remotely: Best Practices\, Challenges\, and 
 Opportunities
BEGIN:VTIMEZONE
TZID:America/Chicago
BEGIN:STANDARD
DTSTART:20261101T010000
TZOFFSETFROM:-0500
TZOFFSETTO:-0600
END:STANDARD
BEGIN:DAYLIGHT
DTSTART:20270314T010000
TZOFFSETFROM:-0600
TZOFFSETTO:-0500
END:DAYLIGHT
END:VTIMEZONE
BEGIN:VTIMEZONE
TZID:UTC
BEGIN:STANDARD
DTSTART:20250726T035718
TZOFFSETFROM:+0000
TZOFFSETTO:+0000
END:STANDARD
END:VTIMEZONE
BEGIN:VEVENT
UID:69e8471e52123
DTSTAMP:20260422T035718Z
SUMMARY:Surgent's Working Remotely: Best Practices\, Challenges\, and Oppor
 tunities
URL:https://ms-cpa.org/catalog/events/4338262-surgents-working-remotely-bes
 t-practices-challenges-and-opportunities-2027-04-03
DTSTART;TZID=America/Chicago:20270304T110000
DTEND;TZID=America/Chicago:20270304T130000
END:VEVENT
END:VCALENDAR