BEGIN:VCALENDAR
VERSION:2.0
PRODID:spatie/icalendar-generator
NAME:Surgent's Basics of Employment Law for Non-HR Professionals
X-WR-CALNAME:Surgent's Basics of Employment Law for Non-HR Professionals
BEGIN:VTIMEZONE
TZID:America/Chicago
BEGIN:STANDARD
DTSTART:20261101T010000
TZOFFSETFROM:-0500
TZOFFSETTO:-0600
END:STANDARD
BEGIN:DAYLIGHT
DTSTART:20270314T010000
TZOFFSETFROM:-0600
TZOFFSETTO:-0500
END:DAYLIGHT
END:VTIMEZONE
BEGIN:VTIMEZONE
TZID:UTC
BEGIN:STANDARD
DTSTART:20250726T040150
TZOFFSETFROM:+0000
TZOFFSETTO:+0000
END:STANDARD
END:VTIMEZONE
BEGIN:VEVENT
UID:69e8482ebedd7
DTSTAMP:20260422T040150Z
SUMMARY:Surgent's Basics of Employment Law for Non-HR Professionals
URL:https://ms-cpa.org/catalog/events/4338143-surgents-basics-of-employment
 -law-for-non-hr-professionals-2027-04-03
DTSTART;TZID=America/Chicago:20270304T123000
DTEND;TZID=America/Chicago:20270304T163000
END:VEVENT
END:VCALENDAR