BEGIN:VCALENDAR
VERSION:2.0
PRODID:spatie/icalendar-generator
NAME:Surgent's Incredible Leadership Transformations in Accounting - Ways t
 o Improve Leadership and Communication
X-WR-CALNAME:Surgent's Incredible Leadership Transformations in Accounting 
 - Ways to Improve Leadership and Communication
BEGIN:VTIMEZONE
TZID:America/Chicago
BEGIN:STANDARD
DTSTART:20261101T010000
TZOFFSETFROM:-0500
TZOFFSETTO:-0600
END:STANDARD
BEGIN:DAYLIGHT
DTSTART:20270314T010000
TZOFFSETFROM:-0600
TZOFFSETTO:-0500
END:DAYLIGHT
END:VTIMEZONE
BEGIN:VTIMEZONE
TZID:UTC
BEGIN:STANDARD
DTSTART:20250726T035804
TZOFFSETFROM:+0000
TZOFFSETTO:+0000
END:STANDARD
END:VTIMEZONE
BEGIN:VEVENT
UID:69e8474cacc56
DTSTAMP:20260422T035804Z
SUMMARY:Surgent's Incredible Leadership Transformations in Accounting - Way
 s to Improve Leadership and Communication
URL:https://ms-cpa.org/catalog/events/4338116-surgents-incredible-leadershi
 p-transformations-in-accounting-ways-to-improve-leadership-and-communicati
 on-2027-03-03
DTSTART;TZID=America/Chicago:20270303T120000
DTEND;TZID=America/Chicago:20270303T140000
END:VEVENT
END:VCALENDAR