BEGIN:VCALENDAR
VERSION:2.0
PRODID:spatie/icalendar-generator
NAME:Surgent's Audits of 401(k) Plans: New Developments and Critical Issues
X-WR-CALNAME:Surgent's Audits of 401(k) Plans: New Developments and Critica
 l Issues
BEGIN:VTIMEZONE
TZID:America/Chicago
BEGIN:STANDARD
DTSTART:20261101T010000
TZOFFSETFROM:-0500
TZOFFSETTO:-0600
END:STANDARD
BEGIN:DAYLIGHT
DTSTART:20270314T010000
TZOFFSETFROM:-0600
TZOFFSETTO:-0500
END:DAYLIGHT
END:VTIMEZONE
BEGIN:VTIMEZONE
TZID:UTC
BEGIN:STANDARD
DTSTART:20250726T070307
TZOFFSETFROM:+0000
TZOFFSETTO:+0000
END:STANDARD
END:VTIMEZONE
BEGIN:VEVENT
UID:69e872ab591c0
DTSTAMP:20260422T070307Z
SUMMARY:Surgent's Audits of 401(k) Plans: New Developments and Critical Iss
 ues
URL:https://ms-cpa.org/catalog/events/4337898-surgents-audits-of-401k-plans
 -new-developments-and-critical-issues-2027-02-03
DTSTART;TZID=America/Chicago:20270302T080000
DTEND;TZID=America/Chicago:20270302T160000
END:VEVENT
END:VCALENDAR