BEGIN:VCALENDAR
VERSION:2.0
PRODID:spatie/icalendar-generator
NAME:Surgent's Annual FASB Update and Review
X-WR-CALNAME:Surgent's Annual FASB Update and Review
BEGIN:VTIMEZONE
TZID:America/Chicago
BEGIN:STANDARD
DTSTART:20261101T010000
TZOFFSETFROM:-0500
TZOFFSETTO:-0600
END:STANDARD
BEGIN:DAYLIGHT
DTSTART:20270314T010000
TZOFFSETFROM:-0600
TZOFFSETTO:-0500
END:DAYLIGHT
END:VTIMEZONE
BEGIN:VTIMEZONE
TZID:UTC
BEGIN:STANDARD
DTSTART:20250726T040228
TZOFFSETFROM:+0000
TZOFFSETTO:+0000
END:STANDARD
END:VTIMEZONE
BEGIN:VEVENT
UID:69e84854988fe
DTSTAMP:20260422T040228Z
SUMMARY:Surgent's Annual FASB Update and Review
URL:https://ms-cpa.org/catalog/events/4337839-surgents-annual-fasb-update-a
 nd-review-2027-01-03
DTSTART;TZID=America/Chicago:20270301T123000
DTEND;TZID=America/Chicago:20270301T163000
END:VEVENT
END:VCALENDAR