BEGIN:VCALENDAR
VERSION:2.0
PRODID:spatie/icalendar-generator
NAME:Surgent's Tax Research
X-WR-CALNAME:Surgent's Tax Research
BEGIN:VTIMEZONE
TZID:America/Chicago
BEGIN:STANDARD
DTSTART:20261101T010000
TZOFFSETFROM:-0500
TZOFFSETTO:-0600
END:STANDARD
BEGIN:DAYLIGHT
DTSTART:20270314T010000
TZOFFSETFROM:-0600
TZOFFSETTO:-0500
END:DAYLIGHT
END:VTIMEZONE
BEGIN:VTIMEZONE
TZID:UTC
BEGIN:STANDARD
DTSTART:20250726T035852
TZOFFSETFROM:+0000
TZOFFSETTO:+0000
END:STANDARD
END:VTIMEZONE
BEGIN:VEVENT
UID:69e8477c618b8
DTSTAMP:20260422T035852Z
SUMMARY:Surgent's Tax Research
URL:https://ms-cpa.org/catalog/events/4337757-surgents-tax-research-2027-26
 -02
DTSTART;TZID=America/Chicago:20270226T080000
DTEND;TZID=America/Chicago:20270226T100000
END:VEVENT
END:VCALENDAR