BEGIN:VCALENDAR
VERSION:2.0
PRODID:spatie/icalendar-generator
NAME:Surgent's Section 529 Plans: A Comprehensive Guide
X-WR-CALNAME:Surgent's Section 529 Plans: A Comprehensive Guide
BEGIN:VTIMEZONE
TZID:America/Chicago
BEGIN:STANDARD
DTSTART:20261101T010000
TZOFFSETFROM:-0500
TZOFFSETTO:-0600
END:STANDARD
BEGIN:DAYLIGHT
DTSTART:20270314T010000
TZOFFSETFROM:-0600
TZOFFSETTO:-0500
END:DAYLIGHT
END:VTIMEZONE
BEGIN:VTIMEZONE
TZID:UTC
BEGIN:STANDARD
DTSTART:20250726T035051
TZOFFSETFROM:+0000
TZOFFSETTO:+0000
END:STANDARD
END:VTIMEZONE
BEGIN:VEVENT
UID:69e8459bc9af6
DTSTAMP:20260422T035051Z
SUMMARY:Surgent's Section 529 Plans: A Comprehensive Guide
URL:https://ms-cpa.org/catalog/events/4337677-surgents-section-529-plans-a-
 comprehensive-guide-2027-26-02
DTSTART;TZID=America/Chicago:20270226T090000
DTEND;TZID=America/Chicago:20270226T110000
END:VEVENT
END:VCALENDAR