BEGIN:VCALENDAR
VERSION:2.0
PRODID:spatie/icalendar-generator
NAME:Surgent's Ethics for the Industry Accountant
X-WR-CALNAME:Surgent's Ethics for the Industry Accountant
BEGIN:VTIMEZONE
TZID:America/Chicago
BEGIN:STANDARD
DTSTART:20261101T010000
TZOFFSETFROM:-0500
TZOFFSETTO:-0600
END:STANDARD
BEGIN:DAYLIGHT
DTSTART:20270314T010000
TZOFFSETFROM:-0600
TZOFFSETTO:-0500
END:DAYLIGHT
END:VTIMEZONE
BEGIN:VTIMEZONE
TZID:UTC
BEGIN:STANDARD
DTSTART:20250726T040309
TZOFFSETFROM:+0000
TZOFFSETTO:+0000
END:STANDARD
END:VTIMEZONE
BEGIN:VEVENT
UID:69e8487d37a0d
DTSTAMP:20260422T040309Z
SUMMARY:Surgent's Ethics for the Industry Accountant
URL:https://ms-cpa.org/catalog/events/4337525-surgents-ethics-for-the-indus
 try-accountant-2027-25-02
DTSTART;TZID=America/Chicago:20270225T080000
DTEND;TZID=America/Chicago:20270225T120000
END:VEVENT
END:VCALENDAR