BEGIN:VCALENDAR
VERSION:2.0
PRODID:spatie/icalendar-generator
NAME:Surgent's Starting a Small Business: What Every Trusted Advisor and En
 trepreneur Needs To Know
X-WR-CALNAME:Surgent's Starting a Small Business: What Every Trusted Adviso
 r and Entrepreneur Needs To Know
BEGIN:VTIMEZONE
TZID:America/Chicago
BEGIN:STANDARD
DTSTART:20261101T010000
TZOFFSETFROM:-0500
TZOFFSETTO:-0600
END:STANDARD
BEGIN:DAYLIGHT
DTSTART:20270314T010000
TZOFFSETFROM:-0600
TZOFFSETTO:-0500
END:DAYLIGHT
END:VTIMEZONE
BEGIN:VTIMEZONE
TZID:UTC
BEGIN:STANDARD
DTSTART:20250726T061729
TZOFFSETFROM:+0000
TZOFFSETTO:+0000
END:STANDARD
END:VTIMEZONE
BEGIN:VEVENT
UID:69e867f9a0dd1
DTSTAMP:20260422T061729Z
SUMMARY:Surgent's Starting a Small Business: What Every Trusted Advisor and
  Entrepreneur Needs To Know
URL:https://ms-cpa.org/catalog/events/4337475-surgents-starting-a-small-bus
 iness-what-every-trusted-advisor-and-entrepreneur-needs-to-know-2027-24-02
DTSTART;TZID=America/Chicago:20270224T130000
DTEND;TZID=America/Chicago:20270224T150000
END:VEVENT
END:VCALENDAR