BEGIN:VCALENDAR
VERSION:2.0
PRODID:spatie/icalendar-generator
NAME:Surgent's Understanding S Corporation Taxation: Late S Corporation Ele
 ctions\, Disproportionate Distributions\, and Selling Shares
X-WR-CALNAME:Surgent's Understanding S Corporation Taxation: Late S Corpora
 tion Elections\, Disproportionate Distributions\, and Selling Shares
BEGIN:VTIMEZONE
TZID:America/Chicago
BEGIN:STANDARD
DTSTART:20261101T010000
TZOFFSETFROM:-0500
TZOFFSETTO:-0600
END:STANDARD
BEGIN:DAYLIGHT
DTSTART:20270314T010000
TZOFFSETFROM:-0600
TZOFFSETTO:-0500
END:DAYLIGHT
END:VTIMEZONE
BEGIN:VTIMEZONE
TZID:UTC
BEGIN:STANDARD
DTSTART:20250726T040309
TZOFFSETFROM:+0000
TZOFFSETTO:+0000
END:STANDARD
END:VTIMEZONE
BEGIN:VEVENT
UID:69e8487d0b624
DTSTAMP:20260422T040309Z
SUMMARY:Surgent's Understanding S Corporation Taxation: Late S Corporation 
 Elections\, Disproportionate Distributions\, and Selling Shares
URL:https://ms-cpa.org/catalog/events/4337455-surgents-understanding-s-corp
 oration-taxation-late-s-corporation-elections-disproportionate-distributio
 ns-and-selling-shares-2027-24-02
DTSTART;TZID=America/Chicago:20270224T120000
DTEND;TZID=America/Chicago:20270224T140000
END:VEVENT
END:VCALENDAR