BEGIN:VCALENDAR
VERSION:2.0
PRODID:spatie/icalendar-generator
NAME:Surgent's Taxation of Partnership Distributions and Sales of Partnersh
 ip Interests
X-WR-CALNAME:Surgent's Taxation of Partnership Distributions and Sales of P
 artnership Interests
BEGIN:VTIMEZONE
TZID:America/Chicago
BEGIN:STANDARD
DTSTART:20261101T010000
TZOFFSETFROM:-0500
TZOFFSETTO:-0600
END:STANDARD
BEGIN:DAYLIGHT
DTSTART:20270314T010000
TZOFFSETFROM:-0600
TZOFFSETTO:-0500
END:DAYLIGHT
END:VTIMEZONE
BEGIN:VTIMEZONE
TZID:UTC
BEGIN:STANDARD
DTSTART:20250726T035806
TZOFFSETFROM:+0000
TZOFFSETTO:+0000
END:STANDARD
END:VTIMEZONE
BEGIN:VEVENT
UID:69e8474e10f0c
DTSTAMP:20260422T035806Z
SUMMARY:Surgent's Taxation of Partnership Distributions and Sales of Partne
 rship Interests
URL:https://ms-cpa.org/catalog/events/4337435-surgents-taxation-of-partners
 hip-distributions-and-sales-of-partnership-interests-2027-24-02
DTSTART;TZID=America/Chicago:20270224T090000
DTEND;TZID=America/Chicago:20270224T130000
END:VEVENT
END:VCALENDAR