BEGIN:VCALENDAR
VERSION:2.0
PRODID:spatie/icalendar-generator
NAME:Surgent's Governing Agentic AI: Cybersecurity\, Data\, and Risk
X-WR-CALNAME:Surgent's Governing Agentic AI: Cybersecurity\, Data\, and Ris
 k
BEGIN:VTIMEZONE
TZID:America/Chicago
BEGIN:STANDARD
DTSTART:20261101T010000
TZOFFSETFROM:-0500
TZOFFSETTO:-0600
END:STANDARD
BEGIN:DAYLIGHT
DTSTART:20270314T010000
TZOFFSETFROM:-0600
TZOFFSETTO:-0500
END:DAYLIGHT
END:VTIMEZONE
BEGIN:VTIMEZONE
TZID:UTC
BEGIN:STANDARD
DTSTART:20250726T034956
TZOFFSETFROM:+0000
TZOFFSETTO:+0000
END:STANDARD
END:VTIMEZONE
BEGIN:VEVENT
UID:69e8456445faf
DTSTAMP:20260422T034956Z
SUMMARY:Surgent's Governing Agentic AI: Cybersecurity\, Data\, and Risk
URL:https://ms-cpa.org/catalog/events/4337398-surgents-governing-agentic-ai
 -cybersecurity-data-and-risk-2027-24-02
DTSTART;TZID=America/Chicago:20270224T140000
DTEND;TZID=America/Chicago:20270224T160000
END:VEVENT
END:VCALENDAR