BEGIN:VCALENDAR
VERSION:2.0
PRODID:spatie/icalendar-generator
NAME:Surgent's The Accountant as the Expert Witness
X-WR-CALNAME:Surgent's The Accountant as the Expert Witness
BEGIN:VTIMEZONE
TZID:America/Chicago
BEGIN:STANDARD
DTSTART:20261101T010000
TZOFFSETFROM:-0500
TZOFFSETTO:-0600
END:STANDARD
BEGIN:DAYLIGHT
DTSTART:20270314T010000
TZOFFSETFROM:-0600
TZOFFSETTO:-0500
END:DAYLIGHT
END:VTIMEZONE
BEGIN:VTIMEZONE
TZID:UTC
BEGIN:STANDARD
DTSTART:20250726T035851
TZOFFSETFROM:+0000
TZOFFSETTO:+0000
END:STANDARD
END:VTIMEZONE
BEGIN:VEVENT
UID:69e8477ba497e
DTSTAMP:20260422T035851Z
SUMMARY:Surgent's The Accountant as the Expert Witness
URL:https://ms-cpa.org/catalog/events/4337371-surgents-the-accountant-as-th
 e-expert-witness-2027-23-02
DTSTART;TZID=America/Chicago:20270223T120000
DTEND;TZID=America/Chicago:20270223T140000
END:VEVENT
END:VCALENDAR