BEGIN:VCALENDAR
VERSION:2.0
PRODID:spatie/icalendar-generator
NAME:Surgent's Information Security and Privacy
X-WR-CALNAME:Surgent's Information Security and Privacy
BEGIN:VTIMEZONE
TZID:America/Chicago
BEGIN:STANDARD
DTSTART:20261101T010000
TZOFFSETFROM:-0500
TZOFFSETTO:-0600
END:STANDARD
BEGIN:DAYLIGHT
DTSTART:20270314T010000
TZOFFSETFROM:-0600
TZOFFSETTO:-0500
END:DAYLIGHT
END:VTIMEZONE
BEGIN:VTIMEZONE
TZID:UTC
BEGIN:STANDARD
DTSTART:20250726T035143
TZOFFSETFROM:+0000
TZOFFSETTO:+0000
END:STANDARD
END:VTIMEZONE
BEGIN:VEVENT
UID:69e845cfa67e4
DTSTAMP:20260422T035143Z
SUMMARY:Surgent's Information Security and Privacy
URL:https://ms-cpa.org/catalog/events/4337191-surgents-information-security
 -and-privacy-2027-22-02
DTSTART;TZID=America/Chicago:20270222T110000
DTEND;TZID=America/Chicago:20270222T130000
END:VEVENT
END:VCALENDAR