BEGIN:VCALENDAR
VERSION:2.0
PRODID:spatie/icalendar-generator
NAME:Surgent's Cybersecurity Risk Management for Financial Professionals: P
 olicies\, Controls\, and Emerging Threats
X-WR-CALNAME:Surgent's Cybersecurity Risk Management for Financial Professi
 onals: Policies\, Controls\, and Emerging Threats
BEGIN:VTIMEZONE
TZID:America/Chicago
BEGIN:STANDARD
DTSTART:20261101T010000
TZOFFSETFROM:-0500
TZOFFSETTO:-0600
END:STANDARD
BEGIN:DAYLIGHT
DTSTART:20270314T010000
TZOFFSETFROM:-0600
TZOFFSETTO:-0500
END:DAYLIGHT
END:VTIMEZONE
BEGIN:VTIMEZONE
TZID:UTC
BEGIN:STANDARD
DTSTART:20250726T035857
TZOFFSETFROM:+0000
TZOFFSETTO:+0000
END:STANDARD
END:VTIMEZONE
BEGIN:VEVENT
UID:69e847814f876
DTSTAMP:20260422T035857Z
SUMMARY:Surgent's Cybersecurity Risk Management for Financial Professionals
 : Policies\, Controls\, and Emerging Threats
URL:https://ms-cpa.org/catalog/events/4337083-surgents-cybersecurity-risk-m
 anagement-for-financial-professionals-policies-controls-and-emerging-threa
 ts-2027-22-02
DTSTART;TZID=America/Chicago:20270222T140000
DTEND;TZID=America/Chicago:20270222T160000
END:VEVENT
END:VCALENDAR