BEGIN:VCALENDAR
VERSION:2.0
PRODID:spatie/icalendar-generator
NAME:Surgent's Unique Tax Attributes of Different Entity Types
X-WR-CALNAME:Surgent's Unique Tax Attributes of Different Entity Types
BEGIN:VTIMEZONE
TZID:America/Chicago
BEGIN:STANDARD
DTSTART:20261101T010000
TZOFFSETFROM:-0500
TZOFFSETTO:-0600
END:STANDARD
BEGIN:DAYLIGHT
DTSTART:20270314T010000
TZOFFSETFROM:-0600
TZOFFSETTO:-0500
END:DAYLIGHT
END:VTIMEZONE
BEGIN:VTIMEZONE
TZID:UTC
BEGIN:STANDARD
DTSTART:20250726T035307
TZOFFSETFROM:+0000
TZOFFSETTO:+0000
END:STANDARD
END:VTIMEZONE
BEGIN:VEVENT
UID:69e84623d6db7
DTSTAMP:20260422T035307Z
SUMMARY:Surgent's Unique Tax Attributes of Different Entity Types
URL:https://ms-cpa.org/catalog/events/4337069-surgents-unique-tax-attribute
 s-of-different-entity-types-2027-22-02
DTSTART;TZID=America/Chicago:20270222T120000
DTEND;TZID=America/Chicago:20270222T140000
END:VEVENT
END:VCALENDAR