BEGIN:VCALENDAR
VERSION:2.0
PRODID:spatie/icalendar-generator
NAME:Surgent's Excel Tables and Conditional Summing
X-WR-CALNAME:Surgent's Excel Tables and Conditional Summing
BEGIN:VTIMEZONE
TZID:America/Chicago
BEGIN:STANDARD
DTSTART:20261101T010000
TZOFFSETFROM:-0500
TZOFFSETTO:-0600
END:STANDARD
BEGIN:DAYLIGHT
DTSTART:20270314T010000
TZOFFSETFROM:-0600
TZOFFSETTO:-0500
END:DAYLIGHT
END:VTIMEZONE
BEGIN:VTIMEZONE
TZID:UTC
BEGIN:STANDARD
DTSTART:20250726T034626
TZOFFSETFROM:+0000
TZOFFSETTO:+0000
END:STANDARD
END:VTIMEZONE
BEGIN:VEVENT
UID:69e84492bec7b
DTSTAMP:20260422T034626Z
SUMMARY:Surgent's Excel Tables and Conditional Summing
URL:https://ms-cpa.org/catalog/events/4336984-surgents-excel-tables-and-con
 ditional-summing-2027-19-02
DTSTART;TZID=America/Chicago:20270219T090000
DTEND;TZID=America/Chicago:20270219T110000
END:VEVENT
END:VCALENDAR