BEGIN:VCALENDAR
VERSION:2.0
PRODID:spatie/icalendar-generator
NAME:Surgent's The Art of Delegation: Strategies for Improving Your Skills
X-WR-CALNAME:Surgent's The Art of Delegation: Strategies for Improving Your
  Skills
BEGIN:VTIMEZONE
TZID:America/Chicago
BEGIN:STANDARD
DTSTART:20261101T010000
TZOFFSETFROM:-0500
TZOFFSETTO:-0600
END:STANDARD
BEGIN:DAYLIGHT
DTSTART:20270314T010000
TZOFFSETFROM:-0600
TZOFFSETTO:-0500
END:DAYLIGHT
END:VTIMEZONE
BEGIN:VTIMEZONE
TZID:UTC
BEGIN:STANDARD
DTSTART:20250726T035804
TZOFFSETFROM:+0000
TZOFFSETTO:+0000
END:STANDARD
END:VTIMEZONE
BEGIN:VEVENT
UID:69e8474ca54f5
DTSTAMP:20260422T035804Z
SUMMARY:Surgent's The Art of Delegation: Strategies for Improving Your Skil
 ls
URL:https://ms-cpa.org/catalog/events/4336954-surgents-the-art-of-delegatio
 n-strategies-for-improving-your-skills-2027-19-02
DTSTART;TZID=America/Chicago:20270219T110000
DTEND;TZID=America/Chicago:20270219T130000
END:VEVENT
END:VCALENDAR