BEGIN:VCALENDAR
VERSION:2.0
PRODID:spatie/icalendar-generator
NAME:Surgent's Getting Ready for Busy Season: Key Changes Every Tax Practit
 ioner Should Know
X-WR-CALNAME:Surgent's Getting Ready for Busy Season: Key Changes Every Tax
  Practitioner Should Know
BEGIN:VTIMEZONE
TZID:America/Chicago
BEGIN:STANDARD
DTSTART:20261101T010000
TZOFFSETFROM:-0500
TZOFFSETTO:-0600
END:STANDARD
BEGIN:DAYLIGHT
DTSTART:20270314T010000
TZOFFSETFROM:-0600
TZOFFSETTO:-0500
END:DAYLIGHT
END:VTIMEZONE
BEGIN:VTIMEZONE
TZID:UTC
BEGIN:STANDARD
DTSTART:20250726T035754
TZOFFSETFROM:+0000
TZOFFSETTO:+0000
END:STANDARD
END:VTIMEZONE
BEGIN:VEVENT
UID:69e84742de31e
DTSTAMP:20260422T035754Z
SUMMARY:Surgent's Getting Ready for Busy Season: Key Changes Every Tax Prac
 titioner Should Know
URL:https://ms-cpa.org/catalog/events/4336866-surgents-getting-ready-for-bu
 sy-season-key-changes-every-tax-practitioner-should-know-2027-18-02
DTSTART;TZID=America/Chicago:20270218T123000
DTEND;TZID=America/Chicago:20270218T163000
END:VEVENT
END:VCALENDAR