BEGIN:VCALENDAR
VERSION:2.0
PRODID:spatie/icalendar-generator
NAME:Surgent's Improving Your Profits: Identifying Cost Cutting Opportuniti
 es
X-WR-CALNAME:Surgent's Improving Your Profits: Identifying Cost Cutting Opp
 ortunities
BEGIN:VTIMEZONE
TZID:America/Chicago
BEGIN:STANDARD
DTSTART:20261101T010000
TZOFFSETFROM:-0500
TZOFFSETTO:-0600
END:STANDARD
BEGIN:DAYLIGHT
DTSTART:20270314T010000
TZOFFSETFROM:-0600
TZOFFSETTO:-0500
END:DAYLIGHT
END:VTIMEZONE
BEGIN:VTIMEZONE
TZID:UTC
BEGIN:STANDARD
DTSTART:20250726T035205
TZOFFSETFROM:+0000
TZOFFSETTO:+0000
END:STANDARD
END:VTIMEZONE
BEGIN:VEVENT
UID:69e845e514ead
DTSTAMP:20260422T035205Z
SUMMARY:Surgent's Improving Your Profits: Identifying Cost Cutting Opportun
 ities
URL:https://ms-cpa.org/catalog/events/4336849-surgents-improving-your-profi
 ts-identifying-cost-cutting-opportunities-2027-18-02
DTSTART;TZID=America/Chicago:20270218T090000
DTEND;TZID=America/Chicago:20270218T110000
END:VEVENT
END:VCALENDAR