BEGIN:VCALENDAR
VERSION:2.0
PRODID:spatie/icalendar-generator
NAME:Surgent's Employee vs. Independent Contractor: Achieving Success in a 
 Worker Classification Audit
X-WR-CALNAME:Surgent's Employee vs. Independent Contractor: Achieving Succe
 ss in a Worker Classification Audit
BEGIN:VTIMEZONE
TZID:America/Chicago
BEGIN:STANDARD
DTSTART:20261101T010000
TZOFFSETFROM:-0500
TZOFFSETTO:-0600
END:STANDARD
BEGIN:DAYLIGHT
DTSTART:20270314T010000
TZOFFSETFROM:-0600
TZOFFSETTO:-0500
END:DAYLIGHT
END:VTIMEZONE
BEGIN:VTIMEZONE
TZID:UTC
BEGIN:STANDARD
DTSTART:20250726T035943
TZOFFSETFROM:+0000
TZOFFSETTO:+0000
END:STANDARD
END:VTIMEZONE
BEGIN:VEVENT
UID:69e847af7ebb6
DTSTAMP:20260422T035943Z
SUMMARY:Surgent's Employee vs. Independent Contractor: Achieving Success in
  a Worker Classification Audit
URL:https://ms-cpa.org/catalog/events/4336809-surgents-employee-vs-independ
 ent-contractor-achieving-success-in-a-worker-classification-audit-2027-18-
 02
DTSTART;TZID=America/Chicago:20270218T120000
DTEND;TZID=America/Chicago:20270218T140000
END:VEVENT
END:VCALENDAR