BEGIN:VCALENDAR
VERSION:2.0
PRODID:spatie/icalendar-generator
NAME:Surgent's Mastering Client Management for Accounting and Finance Profe
 ssionals
X-WR-CALNAME:Surgent's Mastering Client Management for Accounting and Finan
 ce Professionals
BEGIN:VTIMEZONE
TZID:America/Chicago
BEGIN:STANDARD
DTSTART:20261101T010000
TZOFFSETFROM:-0500
TZOFFSETTO:-0600
END:STANDARD
BEGIN:DAYLIGHT
DTSTART:20270314T010000
TZOFFSETFROM:-0600
TZOFFSETTO:-0500
END:DAYLIGHT
END:VTIMEZONE
BEGIN:VTIMEZONE
TZID:UTC
BEGIN:STANDARD
DTSTART:20250726T035917
TZOFFSETFROM:+0000
TZOFFSETTO:+0000
END:STANDARD
END:VTIMEZONE
BEGIN:VEVENT
UID:69e8479565313
DTSTAMP:20260422T035917Z
SUMMARY:Surgent's Mastering Client Management for Accounting and Finance Pr
 ofessionals
URL:https://ms-cpa.org/catalog/events/4336784-surgents-mastering-client-man
 agement-for-accounting-and-finance-professionals-2027-18-02
DTSTART;TZID=America/Chicago:20270218T090000
DTEND;TZID=America/Chicago:20270218T110000
END:VEVENT
END:VCALENDAR