BEGIN:VCALENDAR
VERSION:2.0
PRODID:spatie/icalendar-generator
NAME:Surgent's Annual Accounting and Auditing Update
X-WR-CALNAME:Surgent's Annual Accounting and Auditing Update
BEGIN:VTIMEZONE
TZID:America/Chicago
BEGIN:STANDARD
DTSTART:20261101T010000
TZOFFSETFROM:-0500
TZOFFSETTO:-0600
END:STANDARD
BEGIN:DAYLIGHT
DTSTART:20270314T010000
TZOFFSETFROM:-0600
TZOFFSETTO:-0500
END:DAYLIGHT
END:VTIMEZONE
BEGIN:VTIMEZONE
TZID:UTC
BEGIN:STANDARD
DTSTART:20250726T035331
TZOFFSETFROM:+0000
TZOFFSETTO:+0000
END:STANDARD
END:VTIMEZONE
BEGIN:VEVENT
UID:69e8463b41e9c
DTSTAMP:20260422T035331Z
SUMMARY:Surgent's Annual Accounting and Auditing Update
URL:https://ms-cpa.org/catalog/events/4336752-surgents-annual-accounting-an
 d-auditing-update-2027-18-02
DTSTART;TZID=America/Chicago:20270218T080000
DTEND;TZID=America/Chicago:20270218T160000
END:VEVENT
END:VCALENDAR