BEGIN:VCALENDAR
VERSION:2.0
PRODID:spatie/icalendar-generator
NAME:Surgent's Data at 30\,000 Feet: Traveling Smart with Client and Person
 al Information
X-WR-CALNAME:Surgent's Data at 30\,000 Feet: Traveling Smart with Client an
 d Personal Information
BEGIN:VTIMEZONE
TZID:America/Chicago
BEGIN:STANDARD
DTSTART:20261101T010000
TZOFFSETFROM:-0500
TZOFFSETTO:-0600
END:STANDARD
BEGIN:DAYLIGHT
DTSTART:20270314T010000
TZOFFSETFROM:-0600
TZOFFSETTO:-0500
END:DAYLIGHT
END:VTIMEZONE
BEGIN:VTIMEZONE
TZID:UTC
BEGIN:STANDARD
DTSTART:20250726T061828
TZOFFSETFROM:+0000
TZOFFSETTO:+0000
END:STANDARD
END:VTIMEZONE
BEGIN:VEVENT
UID:69e8683441719
DTSTAMP:20260422T061828Z
SUMMARY:Surgent's Data at 30\,000 Feet: Traveling Smart with Client and Per
 sonal Information
URL:https://ms-cpa.org/catalog/events/4336713-surgents-data-at-30000-feet-t
 raveling-smart-with-client-and-personal-information-2027-17-02
DTSTART;TZID=America/Chicago:20270217T090000
DTEND;TZID=America/Chicago:20270217T110000
END:VEVENT
END:VCALENDAR