BEGIN:VCALENDAR
VERSION:2.0
PRODID:spatie/icalendar-generator
NAME:Surgent's Top 20 Questions Advisors Ask About the SECURE Acts and Othe
 r IRA Rules
X-WR-CALNAME:Surgent's Top 20 Questions Advisors Ask About the SECURE Acts 
 and Other IRA Rules
BEGIN:VTIMEZONE
TZID:America/Chicago
BEGIN:STANDARD
DTSTART:20261101T010000
TZOFFSETFROM:-0500
TZOFFSETTO:-0600
END:STANDARD
BEGIN:DAYLIGHT
DTSTART:20270314T010000
TZOFFSETFROM:-0600
TZOFFSETTO:-0500
END:DAYLIGHT
END:VTIMEZONE
BEGIN:VTIMEZONE
TZID:UTC
BEGIN:STANDARD
DTSTART:20250726T035602
TZOFFSETFROM:+0000
TZOFFSETTO:+0000
END:STANDARD
END:VTIMEZONE
BEGIN:VEVENT
UID:69e846d20540e
DTSTAMP:20260422T035602Z
SUMMARY:Surgent's Top 20 Questions Advisors Ask About the SECURE Acts and O
 ther IRA Rules
URL:https://ms-cpa.org/catalog/events/4336655-surgents-top-20-questions-adv
 isors-ask-about-the-secure-acts-and-other-ira-rules-2027-17-02
DTSTART;TZID=America/Chicago:20270217T120000
DTEND;TZID=America/Chicago:20270217T140000
END:VEVENT
END:VCALENDAR