BEGIN:VCALENDAR
VERSION:2.0
PRODID:spatie/icalendar-generator
NAME:Surgent's Virtual Currency: Keeping Up with the Tax Code
X-WR-CALNAME:Surgent's Virtual Currency: Keeping Up with the Tax Code
BEGIN:VTIMEZONE
TZID:America/Chicago
BEGIN:STANDARD
DTSTART:20261101T010000
TZOFFSETFROM:-0500
TZOFFSETTO:-0600
END:STANDARD
BEGIN:DAYLIGHT
DTSTART:20270314T010000
TZOFFSETFROM:-0600
TZOFFSETTO:-0500
END:DAYLIGHT
END:VTIMEZONE
BEGIN:VTIMEZONE
TZID:UTC
BEGIN:STANDARD
DTSTART:20250726T035440
TZOFFSETFROM:+0000
TZOFFSETTO:+0000
END:STANDARD
END:VTIMEZONE
BEGIN:VEVENT
UID:69e84680386d7
DTSTAMP:20260422T035440Z
SUMMARY:Surgent's Virtual Currency: Keeping Up with the Tax Code
URL:https://ms-cpa.org/catalog/events/4336573-surgents-virtual-currency-kee
 ping-up-with-the-tax-code-2027-16-02
DTSTART;TZID=America/Chicago:20270216T120000
DTEND;TZID=America/Chicago:20270216T140000
END:VEVENT
END:VCALENDAR