BEGIN:VCALENDAR
VERSION:2.0
PRODID:spatie/icalendar-generator
NAME:Surgent's Communicating Financial Results to Stakeholders: A Guide for
  Client Advisory Services
X-WR-CALNAME:Surgent's Communicating Financial Results to Stakeholders: A G
 uide for Client Advisory Services
BEGIN:VTIMEZONE
TZID:America/Chicago
BEGIN:STANDARD
DTSTART:20261101T010000
TZOFFSETFROM:-0500
TZOFFSETTO:-0600
END:STANDARD
BEGIN:DAYLIGHT
DTSTART:20270314T010000
TZOFFSETFROM:-0600
TZOFFSETTO:-0500
END:DAYLIGHT
END:VTIMEZONE
BEGIN:VTIMEZONE
TZID:UTC
BEGIN:STANDARD
DTSTART:20250726T040256
TZOFFSETFROM:+0000
TZOFFSETTO:+0000
END:STANDARD
END:VTIMEZONE
BEGIN:VEVENT
UID:69e8487046390
DTSTAMP:20260422T040256Z
SUMMARY:Surgent's Communicating Financial Results to Stakeholders: A Guide 
 for Client Advisory Services
URL:https://ms-cpa.org/catalog/events/4336492-surgents-communicating-financ
 ial-results-to-stakeholders-a-guide-for-client-advisory-services-2027-16-0
 2
DTSTART;TZID=America/Chicago:20270216T090000
DTEND;TZID=America/Chicago:20270216T110000
END:VEVENT
END:VCALENDAR