BEGIN:VCALENDAR
VERSION:2.0
PRODID:spatie/icalendar-generator
NAME:Surgent's Mastering the Offer in Compromise: Strategies for Preparatio
 n and Negotiation
X-WR-CALNAME:Surgent's Mastering the Offer in Compromise: Strategies for Pr
 eparation and Negotiation
BEGIN:VTIMEZONE
TZID:America/Chicago
BEGIN:STANDARD
DTSTART:20261101T010000
TZOFFSETFROM:-0500
TZOFFSETTO:-0600
END:STANDARD
BEGIN:DAYLIGHT
DTSTART:20270314T010000
TZOFFSETFROM:-0600
TZOFFSETTO:-0500
END:DAYLIGHT
END:VTIMEZONE
BEGIN:VTIMEZONE
TZID:UTC
BEGIN:STANDARD
DTSTART:20250726T040115
TZOFFSETFROM:+0000
TZOFFSETTO:+0000
END:STANDARD
END:VTIMEZONE
BEGIN:VEVENT
UID:69e8480b1bf69
DTSTAMP:20260422T040115Z
SUMMARY:Surgent's Mastering the Offer in Compromise: Strategies for Prepara
 tion and Negotiation
URL:https://ms-cpa.org/catalog/events/4336402-surgents-mastering-the-offer-
 in-compromise-strategies-for-preparation-and-negotiation-2027-12-02
DTSTART;TZID=America/Chicago:20270212T090000
DTEND;TZID=America/Chicago:20270212T110000
END:VEVENT
END:VCALENDAR