BEGIN:VCALENDAR
VERSION:2.0
PRODID:spatie/icalendar-generator
NAME:Surgent's IT Systems and Data Management
X-WR-CALNAME:Surgent's IT Systems and Data Management
BEGIN:VTIMEZONE
TZID:America/Chicago
BEGIN:STANDARD
DTSTART:20261101T010000
TZOFFSETFROM:-0500
TZOFFSETTO:-0600
END:STANDARD
BEGIN:DAYLIGHT
DTSTART:20270314T010000
TZOFFSETFROM:-0600
TZOFFSETTO:-0500
END:DAYLIGHT
END:VTIMEZONE
BEGIN:VTIMEZONE
TZID:UTC
BEGIN:STANDARD
DTSTART:20250726T061006
TZOFFSETFROM:+0000
TZOFFSETTO:+0000
END:STANDARD
END:VTIMEZONE
BEGIN:VEVENT
UID:69e8663e74f6c
DTSTAMP:20260422T061006Z
SUMMARY:Surgent's IT Systems and Data Management
URL:https://ms-cpa.org/catalog/events/4336375-surgents-it-systems-and-data-
 management-2027-12-02
DTSTART;TZID=America/Chicago:20270212T140000
DTEND;TZID=America/Chicago:20270212T160000
END:VEVENT
END:VCALENDAR