BEGIN:VCALENDAR
VERSION:2.0
PRODID:spatie/icalendar-generator
NAME:Surgent's Exploring Client Advisory Services: Tax Due Dates and Penalt
 ies/Where Do I Need To File?
X-WR-CALNAME:Surgent's Exploring Client Advisory Services: Tax Due Dates an
 d Penalties/Where Do I Need To File?
BEGIN:VTIMEZONE
TZID:America/Chicago
BEGIN:STANDARD
DTSTART:20261101T010000
TZOFFSETFROM:-0500
TZOFFSETTO:-0600
END:STANDARD
BEGIN:DAYLIGHT
DTSTART:20270314T010000
TZOFFSETFROM:-0600
TZOFFSETTO:-0500
END:DAYLIGHT
END:VTIMEZONE
BEGIN:VTIMEZONE
TZID:UTC
BEGIN:STANDARD
DTSTART:20250726T040151
TZOFFSETFROM:+0000
TZOFFSETTO:+0000
END:STANDARD
END:VTIMEZONE
BEGIN:VEVENT
UID:69e8482feb06a
DTSTAMP:20260422T040151Z
SUMMARY:Surgent's Exploring Client Advisory Services: Tax Due Dates and Pen
 alties/Where Do I Need To File?
URL:https://ms-cpa.org/catalog/events/4336370-surgents-exploring-client-adv
 isory-services-tax-due-dates-and-penaltieswhere-do-i-need-to-file-2027-12-
 02
DTSTART;TZID=America/Chicago:20270212T090000
DTEND;TZID=America/Chicago:20270212T110000
END:VEVENT
END:VCALENDAR