BEGIN:VCALENDAR
VERSION:2.0
PRODID:spatie/icalendar-generator
NAME:Surgent's Bankruptcy Basics: Understanding the Reorganization and Liqu
 idation Process in These Uncertain Economic Times
X-WR-CALNAME:Surgent's Bankruptcy Basics: Understanding the Reorganization 
 and Liquidation Process in These Uncertain Economic Times
BEGIN:VTIMEZONE
TZID:America/Chicago
BEGIN:STANDARD
DTSTART:20261101T010000
TZOFFSETFROM:-0500
TZOFFSETTO:-0600
END:STANDARD
BEGIN:DAYLIGHT
DTSTART:20270314T010000
TZOFFSETFROM:-0600
TZOFFSETTO:-0500
END:DAYLIGHT
END:VTIMEZONE
BEGIN:VTIMEZONE
TZID:UTC
BEGIN:STANDARD
DTSTART:20250726T035857
TZOFFSETFROM:+0000
TZOFFSETTO:+0000
END:STANDARD
END:VTIMEZONE
BEGIN:VEVENT
UID:69e847810d305
DTSTAMP:20260422T035857Z
SUMMARY:Surgent's Bankruptcy Basics: Understanding the Reorganization and L
 iquidation Process in These Uncertain Economic Times
URL:https://ms-cpa.org/catalog/events/4336354-surgents-bankruptcy-basics-un
 derstanding-the-reorganization-and-liquidation-process-in-these-uncertain-
 economic-times-2027-12-02
DTSTART;TZID=America/Chicago:20270212T130000
DTEND;TZID=America/Chicago:20270212T150000
END:VEVENT
END:VCALENDAR