BEGIN:VCALENDAR
VERSION:2.0
PRODID:spatie/icalendar-generator
NAME:Surgent's Build an AI Agent With ChatGPT: A Hands-on Lab for Financial
  Professionals
X-WR-CALNAME:Surgent's Build an AI Agent With ChatGPT: A Hands-on Lab for F
 inancial Professionals
BEGIN:VTIMEZONE
TZID:America/Chicago
BEGIN:STANDARD
DTSTART:20261101T010000
TZOFFSETFROM:-0500
TZOFFSETTO:-0600
END:STANDARD
BEGIN:DAYLIGHT
DTSTART:20270314T010000
TZOFFSETFROM:-0600
TZOFFSETTO:-0500
END:DAYLIGHT
END:VTIMEZONE
BEGIN:VTIMEZONE
TZID:UTC
BEGIN:STANDARD
DTSTART:20250726T040101
TZOFFSETFROM:+0000
TZOFFSETTO:+0000
END:STANDARD
END:VTIMEZONE
BEGIN:VEVENT
UID:69e847fd5a2a5
DTSTAMP:20260422T040101Z
SUMMARY:Surgent's Build an AI Agent With ChatGPT: A Hands-on Lab for Financ
 ial Professionals
URL:https://ms-cpa.org/catalog/events/4336323-surgents-build-an-ai-agent-wi
 th-chatgpt-a-hands-on-lab-for-financial-professionals-2027-12-02
DTSTART;TZID=America/Chicago:20270212T120000
DTEND;TZID=America/Chicago:20270212T140000
END:VEVENT
END:VCALENDAR