BEGIN:VCALENDAR
VERSION:2.0
PRODID:spatie/icalendar-generator
NAME:Surgent's Top 10 Celebrity Estate Mistakes and How to Avoid Them
X-WR-CALNAME:Surgent's Top 10 Celebrity Estate Mistakes and How to Avoid Th
 em
BEGIN:VTIMEZONE
TZID:America/Chicago
BEGIN:STANDARD
DTSTART:20261101T010000
TZOFFSETFROM:-0500
TZOFFSETTO:-0600
END:STANDARD
BEGIN:DAYLIGHT
DTSTART:20270314T010000
TZOFFSETFROM:-0600
TZOFFSETTO:-0500
END:DAYLIGHT
END:VTIMEZONE
BEGIN:VTIMEZONE
TZID:UTC
BEGIN:STANDARD
DTSTART:20250726T061255
TZOFFSETFROM:+0000
TZOFFSETTO:+0000
END:STANDARD
END:VTIMEZONE
BEGIN:VEVENT
UID:69e866e7e4873
DTSTAMP:20260422T061255Z
SUMMARY:Surgent's Top 10 Celebrity Estate Mistakes and How to Avoid Them
URL:https://ms-cpa.org/catalog/events/4336311-surgents-top-10-celebrity-est
 ate-mistakes-and-how-to-avoid-them-2027-11-02
DTSTART;TZID=America/Chicago:20270211T090000
DTEND;TZID=America/Chicago:20270211T110000
END:VEVENT
END:VCALENDAR